BEGIN:VCALENDAR
VERSION:2.0
PRODID:-//wp-events-plugin.com//7.2.3.1//EN
TZID:America/Edmonton
X-WR-TIMEZONE:America/Edmonton
BEGIN:VEVENT
UID:24@talmudtorahsociety.com
DTSTART;TZID=America/Edmonton;VALUE=DATE:20241113
DTEND;TZID=America/Edmonton;VALUE=DATE:20241114
DTSTAMP:20240919T170733Z
URL:https://talmudtorahsociety.com/events/teachers-day-in-lieu-school-clos
 ed-elc-osc-open/
SUMMARY:Teacher's day in lieu (School closed - ELC & OSC OPEN)
DESCRIPTION:
CATEGORIES:School
END:VEVENT
BEGIN:VTIMEZONE
TZID:America/Edmonton
X-LIC-LOCATION:America/Edmonton
BEGIN:STANDARD
DTSTART:20241103T010000
TZOFFSETFROM:-0600
TZOFFSETTO:-0700
TZNAME:MST
END:STANDARD
END:VTIMEZONE
END:VCALENDAR